BEGIN:VCALENDAR
VERSION:2.0
PRODID:-//WRGRC - ECPv6.12.0.1//NONSGML v1.0//EN
CALSCALE:GREGORIAN
METHOD:PUBLISH
X-WR-CALNAME:WRGRC
X-ORIGINAL-URL:https://wrgrc.org
X-WR-CALDESC:Events for WRGRC
REFRESH-INTERVAL;VALUE=DURATION:PT1H
X-Robots-Tag:noindex
X-PUBLISHED-TTL:PT1H
BEGIN:VTIMEZONE
TZID:America/Indiana/Indianapolis
BEGIN:DAYLIGHT
TZOFFSETFROM:-0500
TZOFFSETTO:-0400
TZNAME:EDT
DTSTART:20230312T070000
END:DAYLIGHT
BEGIN:STANDARD
TZOFFSETFROM:-0400
TZOFFSETTO:-0500
TZNAME:EST
DTSTART:20231105T060000
END:STANDARD
BEGIN:DAYLIGHT
TZOFFSETFROM:-0500
TZOFFSETTO:-0400
TZNAME:EDT
DTSTART:20240310T070000
END:DAYLIGHT
BEGIN:STANDARD
TZOFFSETFROM:-0400
TZOFFSETTO:-0500
TZNAME:EST
DTSTART:20241103T060000
END:STANDARD
BEGIN:DAYLIGHT
TZOFFSETFROM:-0500
TZOFFSETTO:-0400
TZNAME:EDT
DTSTART:20250309T070000
END:DAYLIGHT
BEGIN:STANDARD
TZOFFSETFROM:-0400
TZOFFSETTO:-0500
TZNAME:EST
DTSTART:20251102T060000
END:STANDARD
END:VTIMEZONE
BEGIN:VEVENT
DTSTART;TZID=America/Indiana/Indianapolis:20251101T080000
DTEND;TZID=America/Indiana/Indianapolis:20251102T170000
DTSTAMP:20260422T000528
CREATED:20250308T173114Z
LAST-MODIFIED:20250308T173116Z
UID:287-1761984000-1762102800@wrgrc.org
SUMMARY:VST
DESCRIPTION:time is approximate
URL:https://wrgrc.org/event/vst/
LOCATION:Westfield Washington Schools\, 19500 Tomlinson Rd. Suite B\, Westfield\, IN\, 46074\, United States
CATEGORIES:tracking
ATTACH;FMTTYPE=image/jpeg:https://wrgrc.org/wp-content/uploads/2023/09/header_tracking.jpg
END:VEVENT
BEGIN:VEVENT
DTSTART;TZID=America/Indiana/Indianapolis:20251018T080000
DTEND;TZID=America/Indiana/Indianapolis:20251019T170000
DTSTAMP:20260422T000528
CREATED:20250308T172947Z
LAST-MODIFIED:20250308T172948Z
UID:283-1760774400-1760893200@wrgrc.org
SUMMARY:WC/WCX
DESCRIPTION:time is approximate
URL:https://wrgrc.org/event/wc-wcx/
LOCATION:Glenns Valley Conservation Club\, 7115 Waverly Rd\, Martinsville\, Indiana\, 46151\, United States
CATEGORIES:field
END:VEVENT
BEGIN:VEVENT
DTSTART;TZID=America/Indiana/Indianapolis:20250808T160000
DTEND;TZID=America/Indiana/Indianapolis:20250810T170000
DTSTAMP:20260422T000528
CREATED:20250308T172442Z
LAST-MODIFIED:20250804T122701Z
UID:279-1754668800-1754845200@wrgrc.org
SUMMARY:2025 Specialty
DESCRIPTION:4 specialties\, 1 location!!! \n\n\n\n\nJudging Program\n\n\n\n\nIncluding: \n\n\n\n\n4 conformation specialties \n\n\n\n1 sweepstakes\n\n\n\n4 all-breed obedience trials\n\n\n\n2 all-breed rally trials!\n\n\n\n\nThe venue is air-conditioned\, with bathing facilities\, and plenty of RV spaces! \n\n\n\nWe are going to take pre-entries until it is full for Friday’s Rent-a-Ring (NO RENT-A-RING for conformation)! Preference will be given to those who are entered in our show! We will have two rings set up\, with 10-minute time slots for $10.00 per dog entered. \n\n\n\nPlease send your money\, your name\, dog’s name\, email address\, and check made out to WRGRC by July 20\, 2025\, to: \n\n\n\nLaurie Beard5443 Lake Station LaneNoblesville\, IN 46060 \n\n\n\nFor those not entered in our show\, you may pre-sign up for Friday Night if slots are available. After July 28\, please contact Laurie Beard @ (317) 979-0675 to check availability. Laurie Beard must receive your check by August 1 if slots are available. People can still sign up Friday night if slots are available\, starting at 5:30PM. \n\n\n\n\nPremium List\n\n\n\nEnter
URL:https://wrgrc.org/event/2025-specialty/
LOCATION:Boone County Fairgrounds\, 100 East 100\, Lebanon\, Indiana\, 46052\, United States
CATEGORIES:conformation,meeting,obedience,other
END:VEVENT
BEGIN:VEVENT
DTSTART;TZID=America/Indiana/Indianapolis:20250621T080000
DTEND;TZID=America/Indiana/Indianapolis:20250622T170000
DTSTAMP:20260422T000528
CREATED:20250308T171819Z
LAST-MODIFIED:20250308T172528Z
UID:274-1750492800-1750611600@wrgrc.org
SUMMARY:June 2025 Fast CAT
DESCRIPTION:Registrations Available: 04/23/2025 06:00 pm CT – 06/15/2025 06:00 pm CT \n\n\n\nPhotographer – TBDLure Operator – Nick Ruhana – Lure Dude
URL:https://wrgrc.org/event/june-2025-fast-cat/
LOCATION:Boone County Fairgrounds\, 100 East 100\, Lebanon\, Indiana\, 46052\, United States
CATEGORIES:meeting,other
ATTACH;FMTTYPE=image/jpeg:https://wrgrc.org/wp-content/uploads/2023/09/fastcatgolden.jpeg
END:VEVENT
BEGIN:VEVENT
DTSTART;TZID=America/Indiana/Indianapolis:20250412T080000
DTEND;TZID=America/Indiana/Indianapolis:20250413T170000
DTSTAMP:20260422T000528
CREATED:20250308T171247Z
LAST-MODIFIED:20250308T172533Z
UID:266-1744444800-1744563600@wrgrc.org
SUMMARY:Fast CAT
DESCRIPTION:A brief handlers’ meeting will be held prior to each run block. \n\n\n\nAll dogs will be inspected beginning at 8:00am for AM runs (12:30pm for PM runs) for soundnessprior to running on that event date. \n\n\n\nALL dogs must be checked-in prior to 11:30am for morning runs and prior to 2:00pm forafternoon runs. \n\n\n\nThese events will be run with an established run order to the best ability of the Paddock Master.Adjustments due to weather and other unforeseen circumstances may be necessary. \n\n\n\nAM and PM run start times are 8:30am and 1:00pm.*-All times stated are Eastern Time Zone (ET)Field Hours: 8:00am until all scheduled runs are completed or 2:30pm\, whichever comes first.In the event of inclement weather or other conditions\, or to assist with timely completion of thetest\, the Test Committee may elect to start or end the events earlier\, or later than posted. In anycase\, all entrants present during the posted times will be allowed to run\, if conditions are safe.Lunch: A 60-minute lunch break may be scheduled at the discretion of the Event Committee.Scheduling of Runs / Concurrent Run Procedures / Note to HandlersBoth events are being run concurrently. This means we schedule dogs to run both runs for eachday within a single run block. In this scenario\, if you have one dog entered and you are scheduledin the AM to do both runs\, your two runs will be scheduled approximately 30 runs apart\, givingyour dog time to rest. The PM portion will be run the same way as the AM.
URL:https://wrgrc.org/event/fast-cat/
LOCATION:Boone County Fairgrounds\, 100 East 100\, Lebanon\, Indiana\, 46052\, United States
CATEGORIES:meeting,other
ATTACH;FMTTYPE=image/jpeg:https://wrgrc.org/wp-content/uploads/2023/09/fastcatgolden.jpeg
END:VEVENT
BEGIN:VEVENT
DTSTART;TZID=America/Indiana/Indianapolis:20240809T190000
DTEND;TZID=America/Indiana/Indianapolis:20240811T170000
DTSTAMP:20260422T000528
CREATED:20240615T162919Z
LAST-MODIFIED:20240615T162955Z
UID:228-1723230000-1723395600@wrgrc.org
SUMMARY:2024 Specialty Weekend
DESCRIPTION:Join us for our annual specialty weekend — indoors with A/C\, including plenty of free grooming\, crating\, parking\, and admission! This includes 4 specialty shows\, 1 sweepstakes\, 4 all-breed + all-American dog obedience trials\, as well as rent-a-ring obedience on Friday. \n\n\n\nJudges\n\n\n\n\nConformation\n\nLinda Willard\n\n\n\nNancy Liebes\n\n\n\nPatricia Flanagan\n\n\n\nCharlene Rutar\n\n\n\nDerek Beatty (sweepstakes)\n\n\n\n\n\nObedience\n\nCynthia Pischke\n\n\n\nLarry Wilson\n\n\n\n\n\n\nEnter\n\n\n\nEntries close at the show secretary’s office 12:00pm (Noon)\, Eastern Daylight Time\, on July 24\, 2024\, at Executive Dog Shows in Lima\, Ohio after which time\, any limit has been reached\, after which time no entry will not be accepted\, cancelled\, altered\, or substituted except as provided in Chapter 11\, Section 6 of Dog Show Rules\, and Ch 1\, Sec. 16 of Obedience Regulations. \n\n\n\n\nPremium list\n\n\n\nEnter on-line
URL:https://wrgrc.org/event/2024specialty/
LOCATION:Boone County Fairgrounds\, 100 East 100\, Lebanon\, Indiana\, 46052\, United States
CATEGORIES:conformation,obedience
ATTACH;FMTTYPE=image/jpeg:https://wrgrc.org/wp-content/uploads/2024/06/banner_obedience.jpg
END:VEVENT
BEGIN:VEVENT
DTSTART;TZID=America/Indiana/Indianapolis:20240413T080000
DTEND;TZID=America/Indiana/Indianapolis:20240414T170000
DTSTAMP:20260422T000528
CREATED:20240203T160712Z
LAST-MODIFIED:20240227T235323Z
UID:195-1712995200-1713114000@wrgrc.org
SUMMARY:2024 Fast CAT
DESCRIPTION:Join us for our next Coursing Ability Test (AKC Fast CAT). Four tests in two days! \n\n\n\nNOTE NEW LOCATION! \n\n\n\nThe field is NATURAL GRASS and FULLY FENCED by Lure Dude using flexible mesh fencing and flexible poles. The Lure setup is a Swift Paws Pro-Alpha Continuous Loop System with Plastic Bags and/or Squawker (conditions permitting). \n\n\n\nEach Event Limited to 125 Entries \n\n\n\n\nPremium List
URL:https://wrgrc.org/event/2024-fast-cat/
LOCATION:Boone County Fairgrounds\, 100 East 100\, Lebanon\, Indiana\, 46052\, United States
CATEGORIES:dogevent,other
ATTACH;FMTTYPE=image/jpeg:https://wrgrc.org/wp-content/uploads/2023/09/fastcatgolden.jpeg
END:VEVENT
BEGIN:VEVENT
DTSTART;TZID=America/Indiana/Indianapolis:20231105T070000
DTEND;TZID=America/Indiana/Indianapolis:20231105T200000
DTSTAMP:20260422T000528
CREATED:20230902T154910Z
LAST-MODIFIED:20230902T174122Z
UID:45-1699167600-1699214400@wrgrc.org
SUMMARY:2023 VST
DESCRIPTION:Join us for our 2023 VST tracking test! The VST test is for dogs that have completed a TD or TDU Title.  The VST tests will be limited to (8) Golden Retrievers each test.  Note: if the limit for entries is not reached in Golden’s\, other breeds may enter — procedure is in the premium list. \n\n\n\n\nPremium List\n\n\n\n\nJudges\n\n\n\n\nConnie Austin (Rochester\, IL)\n\n\n\nTerri Schmitt (Madison\, Al)\n\n\n\n\nHotels\n\n\n\nRed Roof Inn Indy North 9520 Valparaiso Ct. Indianapolis\, IN317-872-3030Pets Allowed – No Charge  Super 8 17070 Dragonfly Lane Noblesville\, IN317-776-7088 $10 Pet Fee per Night  Quality Inn & Suites16025 Prosperity DrNoblesville\, IN317-770-6772\n\n\n\nCommittee\n\n\n\n\nSteve Ripley (Trial Secretary) sripley2000@msn.com\n\n\n\nBeth McCormack (Trial Chairperson)\n\n\n\nAnd the Officers\, Board of Directors and Members of White River Golden Retriever Club
URL:https://wrgrc.org/event/2023-vst/
LOCATION:Westfield Washington Schools\, 19500 Tomlinson Rd. Suite B\, Westfield\, IN\, 46074\, United States
CATEGORIES:dogevent,tracking
ATTACH;FMTTYPE=image/jpeg:https://wrgrc.org/wp-content/uploads/2023/09/header_tracking.jpg
END:VEVENT
BEGIN:VEVENT
DTSTART;TZID=America/Indiana/Indianapolis:20230922T083000
DTEND;TZID=America/Indiana/Indianapolis:20230924T170000
DTSTAMP:20260422T000528
CREATED:20230902T164219Z
LAST-MODIFIED:20230902T174141Z
UID:62-1695371400-1695574800@wrgrc.org
SUMMARY:2023 Fast CAT
DESCRIPTION:Join us for our annual Coursing Ability Test (AKC Fast CAT)  \n\n\n\n\nPremium List\n\n\n\nOnline Entry
URL:https://wrgrc.org/event/2023-fast-cat/
LOCATION:K9 Splash Zone\, 9386 National Road\, Brookville\, Ohio\, 45309\, United States
CATEGORIES:dogevent,other
END:VEVENT
END:VCALENDAR